Workbook

Sheet 🏠 HOME
A1: Medicare Agent Performance Dashboard PRO
A2: by TemplateTitanHQ · Your Complete Medicare Business Operating System
A5: 👥 CLIENT CRM | D5: 🎯 LEAD TRACKER | G5: 📞 FOLLOW-UP CENTER | J5: 📅 APPOINTMENTS | M5: 📝 APPLICATIONS | P5: ✅ MEDICARE SALES
A6: =HYPERLINK("#'👥 CLIENT CRM'!A1","➜ OPEN") | D6: =HYPERLINK("#'🎯 LEAD TRACKER'!A1","➜ OPEN") | G6: =HYPERLINK("#'📞 FOLLOW-UP CENTER'!A1","➜ OPEN") | J6: =HYPERLINK("#'📅 APPOINTMENTS'!A1","➜ OPEN") | M6: =HYPERLINK("#'📝 APPLICATIONS'!A1","➜ OPEN") | P6: =HYPERLINK("#'✅ MEDICARE SALES'!A1","➜ OPEN")
A9: Track every client, policy & renewal date | D9: Log leads, costs, ROI & conversion | G9: Never miss a callback — color coded | J9: Schedule & track all appointments | M9: Monitor apps from submission to issue | P9: Record every Medicare enrollment
A13: 💰 COMMISSIONS | D13: 🔄 RENEWALS | G13: 🔍 SEP CENTER | J13: 🏥 MEDICAID | M13: 📊 SALES FUNNEL | P13: 📈 KPI DASHBOARD
A14: =HYPERLINK("#'💰 COMMISSIONS'!A1","➜ OPEN") | D14: =HYPERLINK("#'🔄 RENEWALS'!A1","➜ OPEN") | G14: =HYPERLINK("#'🔍 SEP CENTER'!A1","➜ OPEN") | J14: =HYPERLINK("#'🏥 MEDICAID'!A1","➜ OPEN") | M14: =HYPERLINK("#'📊 SALES FUNNEL'!A1","➜ OPEN") | P14: =HYPERLINK("#'📈 KPI DASHBOARD'!A1","➜ OPEN")
A17: Track income, renewals & chargebacks | D17: Annual review & retention dashboard | G17: Full SEP cheat sheet library | J17: Dual eligible & LIS resources | M17: Visual pipeline & conversion rates | P17: Charts, trends & performance KPIs
A21: 💼 BOOK OF BUSINESS | D21: 📣 MARKETING | G21: 🔗 RESOURCE CENTER | J21: 🔎 SEARCH | M21: 📋 QUICK START | P21: ⚙️ SETTINGS
A22: =HYPERLINK("#'💼 BOOK OF BUSINESS'!A1","➜ OPEN") | D22: =HYPERLINK("#'📣 MARKETING'!A1","➜ OPEN") | G22: =HYPERLINK("#'🔗 RESOURCE CENTER'!A1","➜ OPEN") | J22: =HYPERLINK("#'🔎 SEARCH'!A1","➜ OPEN") | M22: =HYPERLINK("#'📋 QUICK START'!A1","➜ OPEN") | P22: =HYPERLINK("#'⚙️ SETTINGS'!A1","➜ OPEN")
A25: Track business value & resale worth | D25: Lead source ROI & campaign tracking | G25: CMS, AHIP, carriers & compliance | J25: Find any feature instantly | M25: Setup guide & how-to instructions | P25: Configure dropdowns & benchmarks
A30: 📊 Quick Stats | Active Clients: 32 | YTD Sales: 82 | YTD Net Commission: $45,008 | Leads This Month: 63 | Overdue Follow-Ups: 8 | Upcoming Renewals: 12

Sheet 📋 QUICK START
A1: 📋 QUICK START GUIDE — Medicare Agent Performance Dashboard PRO
A2: Follow these steps to get up and running in under 10 minutes.
A4: SETUP STEPS
A5: Step | B5: Action | C5: What To Do
A6: STEP 1 | B6: Go to ⚙️ SETTINGS | C6: Enter your team benchmark averages for each KPI. These drive the PIP tracker and KPI dashboard.
A7: STEP 2 | B7: Configure Your Dropdowns | C7: In SETTINGS > Section C, add your carrier names, lead sources, and plan types to personalize all dropdowns.
A8: STEP 3 | B8: Add Your Clients | C8: Open 👥 CLIENT CRM and enter existing clients. Fill in plan, carrier, effective date, and next review date.
A9: STEP 4 | B9: Log Your Leads | C9: Use 🎯 LEAD TRACKER to record new leads daily. Track source, cost, and status to calculate your ROI.
A10: STEP 5 | B10: Set Follow-Ups | C10: In 📞 FOLLOW-UP CENTER, enter every callback. Red = overdue, Yellow = due today, Green = upcoming.
A11: STEP 6 | B11: Record Sales | C11: After every enrollment, log the sale in ✅ MEDICARE SALES and 💰 COMMISSIONS for income tracking.
A12: STEP 7 | B12: Review Your KPIs Weekly | C12: Open 📈 KPI DASHBOARD each week to review your sales trends, conversion rates, and commission totals.
A13: STEP 8 | B13: Check Book of Business Monthly | C13: Use 💼 BOOK OF BUSINESS to track your total recurring income and estimated business resale value.
A14: STEP 9 | B14: Use SEP Center Daily | C14: Open 🔍 SEP CENTER to identify enrollment opportunities for clients who have qualifying life events.
A15: STEP 10 | B15: Explore Resource Center | C15: 🔗 RESOURCE CENTER has clickable links to CMS, AHIP, all carrier portals, and compliance tools.
A18: WHAT EACH TAB DOES
A19: Tab Name | B19: Description
A20: 🏠 HOME | B20: Navigation hub — jump to any tab instantly
A21: 👥 CLIENT CRM | B21: Full client database with policy details, retention risk & cross-sell flags
A22: 🎯 LEAD TRACKER | B22: Track lead source, cost, conversion rate & ROI per lead source
A23: 📞 FOLLOW-UP CENTER | B23: Callback tracker with automatic overdue/due/upcoming color coding
A24: 📅 APPOINTMENTS | B24: Schedule appointments and track outcomes and sale conversions
A25: 📝 APPLICATIONS | B25: Track submitted applications from pending through issued
A26: ✅ MEDICARE SALES | B26: Log every Medicare enrollment with plan, carrier, premium details
A27: 💰 COMMISSIONS | B27: Track expected, received, renewal & chargeback commissions
A28: 🔄 RENEWALS | B28: Annual review scheduler with retention risk scoring
A29: 🔍 SEP CENTER | B29: Complete SEP cheat sheet — eligibility, windows, documentation
A30: 🏥 MEDICAID | B30: Dual eligible, Extra Help, LIS & state Medicaid resources
... A37: ⚙️ SETTINGS | B37: Configure team averages, PIP thresholds & all dropdown lists

Sheet 👥 CLIENT CRM
A1: 👥 CLIENT CRM
A2: Your complete client database. Track every client, policy, and opportunity in one place.
A4: Total Clients | E4: Active | I4: Renewal Due <30d | M4: High Retention Risk | Q4: Cross-Sell Opps
A5: =COUNTA(B10:B209) | E5: =COUNTIF(Z10:Z209,"Active") | I5: =SUMPRODUCT((AB10:AB209<>"")*(AB10:AB209<=TODAY()+30)*(AB10:AB209>=TODAY())) | M5: =COUNTIF(AC10:AC209,"High") | Q5: =COUNTIF(AD10:AD209,"Yes")
A9: # | B9: First Name | C9: Last Name | D9: Phone | E9: Alt Phone | F9: Email | G9: Address | H9: City | I9: State | J9: County | K9: Zip | L9: Date of Birth | M9: Age | N9: Medicare # | O9: Part A Eff Date | P9: Part B Eff Date | Q9: Plan Type | R9: Carrier | S9: Plan Name | T9: Monthly Premium $ | U9: Annual Premium $ | V9: Effective Date | W9: Agent Notes | X9: Referral Source | Y9: Spouse Name | Z9: Status | AA9: Last Contact | AB9: Next Follow-Up | AC9: Annual Review Date | AD9: Retention Risk | AE9: Cross-Sell Opp | AF9: Cross-Sell Notes
A10: 1 | B10: Lillian | C10: Davis | D10: (438) 717-1434 | F10: lillian.davis@email.com | G10: 9028 Cedar Ave | H10: Denver | I10: CO | J10: Broward | K10: 87236 | L10: 19782 | M10: =IF(L10<>"",DATEDIF(L10,TODAY(),"Y"),"") | N10: JAF-76574-384 | O10: 45737 | P10: 45721 | Q10: DSNP | R10: UnitedHealthcare | S10: AARP MedicareComplete | T10: 23.68 | U10: =IF(T10<>"",T10*12,"") | V10: 46075 | W10: Good client. Potential referral. | X10: Internet Lead | Z10: Active | AA10: 46121 | AB10: 46179 | AC10: 46440 | AD10: Low | AE10: Yes | AF10: Dental & vision add-on opportunity
A11: 2 | B11: Evelyn | C11: Miller | D11: (921) 271-1750 | E11: (991) 496-2307 | F11: evelyn.miller@email.com | G11: 1754 Cedar Blvd | H11: Denver | I11: NC | J11: Alameda | K11: 93320 | L11: 19509 | M11: =IF(L11<>"",DATEDIF(L11,TODAY(),"Y"),"") | N11: NFN-64432-786 | O11: 45708 | P11: 45597 | Q11: PDP | R11: Devoted Health | S11: Devoted Value | T11: 21.86 | U11: =IF(T11<>"",T11*12,"") | V11: 45773 | W11: Good client. Satisfied with plan. | X11: Cold Call | Y11: Ruth Ramirez | Z11: Active | AA11: 46138 | AB11: 46217 | AC11: 46503 | AD11: Low | AE11: Yes | AF11: Dental & vision add-on opportunity
A12: 3 | B12: Hazel | C12: White | D12: (267) 416-6155 | F12: hazel.white@email.com | G12: 7617 Maple Blvd | H12: Phoenix | I12: PA | J12: Riverside | K12: 42325 | L12: 19204 | M12: =IF(L12<>"",DATEDIF(L12,TODAY(),"Y"),"") | N12: UUJ-77543-470 | O12: 45720 | P12: 45741 | Q12: Medigap Plan G | R12: Aetna | S12: Aetna Medicare Eagle Plan | T12: 197.69 | U12: =IF(T12<>"",T12*12,"") | V12: 45794 | W12: Good client. Happy with network. | X12: Cold Call | Z12: Active | AA12: 46146 | AB12: 46179 | AC12: 46524 | AD12: Low | AE12: No
A13: 4 | B13: Thelma | C13: Brown | D13: (317) 898-9797 | E13: (987) 856-6573 | G13: 7223 Maple Dr | H13: Miami | I13: MI | J13: Maricopa | K13: 44522 | L13: 20278 | M13: =IF(L13<>"",DATEDIF(L13,TODAY(),"Y"),"") | N13: TFT-25889-961 | O13: 45613 | P13: 45647 | Q13: MA-Only | R13: Humana | S13: Humana Gold H5619 | T13: 46.17 | U13: =IF(T13<>"",T13*12,"") | V13: 45930 | W13: Good client. Happy with network. | X13: Internet Lead | Z13: Active | AA13: 46143 | AB13: 46212 | AC13: 46295 | AD13: Low | AE13: No
A14: 5 | B14: Arthur | C14: Murphy | D14: (780) 280-2403 | E14: (270) 978-9727 | F14: arthur.murphy@email.com | G14: 2203 Cedar Ln | H14: Phoenix | I14: NC | J14: Orange | K14: 44741 | L14: 22145 | M14: =IF(L14<>"",DATEDIF(L14,TODAY(),"Y"),"") | N14: TWQ-49835-873 | O14: 45590 | P14: 45600 | Q14: Medigap Plan N | R14: Aetna | S14: Aetna SilverScript | T14: 84.64 | U14: =IF(T14<>"",T14*12,"") | V14: 45981 | W14: Good client. Ask about dental. | X14: Internet Lead | Y14: Lawrence Torres | Z14: Active | AA14: 46136 | AB14: 46192 | AC14: 46346 | AD14: Medium | AE14: Maybe
A15: 6 | B15: Henry | C15: Young | D15: (232) 538-2160 | G15: 8053 Maple Ln | H15: Phoenix | I15: TX | J15: Hillsborough | K15: 84847 | L15: 21230 | M15: =IF(L15<>"",DATEDIF(L15,TODAY(),"Y"),"") | N15: VSH-87669-294 | O15: 45752 | P15: 45752 | Q15: Medigap Plan N | R15: Molina | S15: Molina Value Plus | T15: 74.38 | U15: =IF(T15<>"",T15*12,"") | V15: 46031 | W15: Good client. Check drug coverage. | X15: Internet Lead | Z15: Active | AA15: 46175 | AB15: 46181 | AC15: 46396 | AD15: Low | AE15: No
A16: 7 | B16: Marie | C16: Green | D16: (485) 673-5092 | E16: (277) 653-2604 | G16: 8956 Oak St | H16: Houston | I16: CO | J16: Hillsborough | K16: 31798 | L16: 21325 | M16: =IF(L16<>"",DATEDIF(L16,TODAY(),"Y"),"") | N16: QSS-47570-160 | O16: 45734 | P16: 45679 | Q16: DSNP | R16: UnitedHealthcare | S16: AARP Medicare Supplement Plan G | T16: 28.02 | U16: =IF(T16<>"",T16*12,"") | V16: 45940 | W16: Good client. Satisfied with plan. | X16: Referral – Agent | Y16: Mildred Green | Z16: Active | AA16: 46107 | AB16: 46205 | AC16: 46305 | AD16: High | AE16: Yes | AF16: Dental & vision add-on opportunity
A17: 8 | B17: Carol | C17: King | D17: (720) 282-4044 | G17: 3953 Cedar St | H17: Philadelphia | I17: FL | J17: Alameda | K17: 42271 | L17: 19055 | M17: =IF(L17<>"",DATEDIF(L17,TODAY(),"Y"),"") | N17: VWB-27868-773 | O17: 45627 | P17: 45632 | Q17: MA-Only | R17: Molina | S17: Molina Total Care | T17: 7.31 | U17: =IF(T17<>"",T17*12,"") | V17: 45651 | W17: Good client. Happy with network. | X17: Referral – Agent | Z17: Active | AA17: 46114 | AB17: 46209 | AC17: 46381 | AD17: Medium | AE17: Yes | AF17: Dental & vision add-on opportunity
A18: 9 | B18: Mildred | C18: Lee | D18: (418) 718-5345 | G18: 1227 Maple Blvd | H18: Chicago | I18: WA | J18: Sacramento | K18: 30676 | L18: 18004 | M18: =IF(L18<>"",DATEDIF(L18,TODAY(),"Y"),"") | N18: RUZ-59666-108 | O18: 45606 | P18: 45635 | Q18: MA-Only | R18: Devoted Health | S18: Devoted Choice | T18: 54.87 | U18: =IF(T18<>"",T18*12,"") | V18: 45803 | W18: Good client. Potential referral. | X18: Referral – Client | Y18: Barbara Wilson | Z18: Active | AA18: 46174 | AB18: 46206 | AC18: 46533 | AD18: Low | AE18: Maybe
A19: 10 | B19: Mildred | C19: Davis | D19: (252) 294-7939 | E19: (245) 203-6464 | F19: mildred.davis@email.com | G19: 4391 Maple Dr | H19: Seattle | I19: MI | J19: Clark | K19: 66057 | L19: 20852 | M19: =IF(L19<>"",DATEDIF(L19,TODAY(),"Y"),"") | N19: UAD-23442-658 | O19: 45767 | P19: 45682 | Q19: DSNP | R19: Humana | S19: Humana Gold H5619 | T19: 25.12 | U19: =IF(T19<>"",T19*12,"") | V19: 46002 | W19: Good client. Happy with network. | X19: TV/Radio | Y19: Gerald Wilson | Z19: Active | AA19: 46142 | AB19: 46209 | AC19: 46367 | AD19: Medium | AE19: No
A20: 11 | B20: Margaret | C20: Robinson | D20: (381) 622-1406 | F20: margaret.robinson@email.com | G20: 6845 Maple Blvd | H20: Phoenix | I20: WA | J20: Broward | K20: 24168 | L20: 19912 | M20: =IF(L20<>"",DATEDIF(L20,TODAY(),"Y"),"") | N20: PBS-44269-936 | O20: 45659 | P20: 45687 | Q20: MAPD | R20: Devoted Health | S20: Devoted Choice | T20: 66.85 | U20: =IF(T20<>"",T20*12,"") | V20: 46019 | W20: Good client. Potential referral. | X20: Direct Mail | Y20: Virginia Thompson | Z20: Active | AA20: 46096 | AB20: 46186 | AC20: 46384 | AD20: Low | AE20: Maybe
A21: 12 | B21: Harold | C21: Torres | D21: (467) 382-5349 | F21: harold.torres@email.com | G21: 5763 Pine Dr | H21: Philadelphia | I21: OH | J21: Pinellas | K21: 77033 | L21: 19496 | M21: =IF(L21<>"",DATEDIF(L21,TODAY(),"Y"),"") | N21: DPV-45173-145 | O21: 45595 | P21: 45665 | Q21: Medigap Plan G | R21: Anthem/BCBS | S21: Anthem BlueMedicare PPO | T21: 191.22 | U21: =IF(T21<>"",T21*12,"") | V21: 45651 | W21: Good client. Satisfied with plan. | X21: Internet Lead | Y21: Edna Parker | Z21: Active | AA21: 46107 | AB21: 46198 | AC21: 46381 | AD21: Medium | AE21: Maybe
A22: 13 | B22: Hazel | C22: Morris | D22: (913) 502-3085 | F22: hazel.morris@email.com | G22: 6311 Maple Ln | H22: Philadelphia | I22: IL | J22: Hillsborough | K22: 49446 | L22: 21381 | M22: =IF(L22<>"",DATEDIF(L22,TODAY(),"Y"),"") | N22: PUA-55700-315 | O22: 45666 | P22: 45628 | Q22: PDP | R22: Anthem/BCBS | S22: Anthem BlueMedicare PPO | T22: 68.71 | U22: =IF(T22<>"",T22*12,"") | V22: 45675 | W22: Good client. Happy with network. | X22: Social Media | Y22: Eugene Scott | Z22: Active | AA22: 46111 | AB22: 46196 | AC22: 46405 | AD22: High | AE22: Maybe
A23: 14 | B23: Rose | C23: Parker | D23: (403) 350-1400 | F23: rose.parker@email.com | G23: 1293 Cedar Dr | H23: San Diego | I23: OH | J23: Bexar | K23: 85454 | L23: 20289 | M23: =IF(L23<>"",DATEDIF(L23,TODAY(),"Y"),"") | N23: GZZ-79099-509 | O23: 45714 | P23: 45739 | Q23: Medigap Plan N | R23: Anthem/BCBS | S23: Anthem BlueMedicare PPO | T23: 147.02 | U23: =IF(T23<>"",T23*12,"") | V23: 46103 | W23: Good client. Satisfied with plan. | X23: Community Event | Y23: Leo Miller | Z23: Active | AA23: 46145 | AB23: 46220 | AC23: 46468 | AD23: Low | AE23: Yes | AF23: Dental & vision add-on opportunity
A24: 15 | B24: Leo | C24: King | D24: (653) 827-9270 | F24: leo.king@email.com | G24: 7405 Maple Dr | H24: Denver | I24: PA | J24: Riverside | K24: 43972 | L24: 16374 | M24: =IF(L24<>"",DATEDIF(L24,TODAY(),"Y"),"") | N24: HXJ-98939-741 | O24: 45715 | P24: 45706 | Q24: MA-Only | R24: Anthem/BCBS | S24: Anthem Medicare Preferred | T24: 110.1 | U24: =IF(T24<>"",T24*12,"") | V24: 46121 | W24: Good client. Check drug coverage. | X24: Cold Call | Z24: Inactive | AA24: 46116 | AB24: 46219 | AC24: 46486 | AD24: High | AE24: Yes | AF24: Dental & vision add-on opportunity
A25: 16 | B25: Carol | C25: White | D25: (625) 263-4388 | E25: (598) 988-1320 | F25: carol.white@email.com | G25: 9532 Cedar Dr | H25: Miami | I25: CA | J25: Riverside | K25: 56105 | L25: 16205 | M25: =IF(L25<>"",DATEDIF(L25,TODAY(),"Y"),"") | N25: KPQ-99947-919 | O25: 45622 | P25: 45720 | Q25: PDP | R25: Wellcare | S25: Wellcare Classic | T25: 44.32 | U25: =IF(T25<>"",T25*12,"") | V25: 46076 | W25: Good client. Check drug coverage. | X25: Cold Call | Z25: Active | AA25: 46122 | AB25: 46203 | AC25: 46441 | AD25: Medium | AE25: Yes | AF25: Dental & vision add-on opportunity
A26: 17 | B26: Gerald | C26: Adams | D26: (638) 338-8564 | G26: 5463 Maple Dr | H26: Atlanta | I26: NC | J26: Palm Beach | K26: 54236 | L26: 17987 | M26: =IF(L26<>"",DATEDIF(L26,TODAY(),"Y"),"") | N26: PJQ-52341-581 | O26: 45772 | P26: 45585 | Q26: Medigap Plan G | R26: UnitedHealthcare | S26: AARP MedicareComplete | T26: 242.11 | U26: =IF(T26<>"",T26*12,"") | V26: 45716 | W26: Good client. Happy with network. | X26: Internet Lead | Z26: Active | AA26: 46100 | AB26: 46213 | AC26: 46446 | AD26: Low | AE26: Maybe
A27: 18 | B27: Frances | C27: Thompson | D27: (371) 820-2876 | E27: (367) 518-2771 | F27: frances.thompson@email.com | G27: 5211 Elm Dr | H27: Charlotte | I27: FL | J27: Palm Beach | K27: 35995 | L27: 22325 | M27: =IF(L27<>"",DATEDIF(L27,TODAY(),"Y"),"") | N27: CVZ-42669-813 | O27: 45579 | P27: 45699 | Q27: DSNP | R27: Humana | S27: Humana Gold Plus | T27: 8.35 | U27: =IF(T27<>"",T27*12,"") | V27: 46044 | W27: Good client. Happy with network. | X27: Community Event | Y27: Doris Williams | Z27: Active | AA27: 46148 | AB27: 46206 | AC27: 46409 | AD27: Low | AE27: Yes | AF27: Dental & vision add-on opportunity
A28: 19 | B28: Frances | C28: Ramirez | D28: (645) 380-9548 | E28: (476) 830-9817 | F28: frances.ramirez@email.com | G28: 7716 Cedar Ln | H28: Chicago | I28: IL | J28: Orange | K28: 52245 | L28: 21462 | M28: =IF(L28<>"",DATEDIF(L28,TODAY(),"Y"),"") | N28: HCJ-84995-868 | O28: 45658 | P28: 45631 | Q28: DSNP | R28: Cigna | S28: Cigna Preferred | T28: 29.74 | U28: =IF(T28<>"",T28*12,"") | V28: 45815 | W28: Good client. Happy with network. | X28: TV/Radio | Y28: Walter Johnson | Z28: Active | AA28: 46129 | AB28: 46217 | AC28: 46180 | AD28: Low | AE28: Yes | AF28: Dental & vision add-on opportunity
A29: 20 | B29: Ralph | C29: Walker | D29: (446) 907-8800 | E29: (702) 658-1282 | G29: 3730 Cedar Ave | H29: Chicago | I29: OH | J29: San Bernardino | K29: 97026 | L29: 18304 | M29: =IF(L29<>"",DATEDIF(L29,TODAY(),"Y"),"") | N29: VNS-99698-452 | O29: 45668 | P29: 45586 | Q29: Medigap Plan G | R29: Aetna | S29: Aetna Medicare Advantage Plan | T29: 178.37 | U29: =IF(T29<>"",T29*12,"") | V29: 45972 | W29: Good client. Happy with network. | X29: TV/Radio | Z29: Active | AA29: 46145 | AB29: 46203 | AC29: 46337 | AD29: Low | AE29: Yes | AF29: Dental & vision add-on opportunity
A30: 21 | B30: Ethel | C30: Green | D30: (483) 941-9595 | F30: ethel.green@email.com | G30: 3280 Pine Ave | H30: Atlanta | I30: AZ | J30: Hillsborough | K30: 33519 | L30: 19835 | M30: =IF(L30<>"",DATEDIF(L30,TODAY(),"Y"),"") | N30: KAZ-93073-380 | O30: 45765 | P30: 45763 | Q30: PDP | R30: Wellcare | S30: Wellcare Classic | T30: 21.4 | U30: =IF(T30<>"",T30*12,"") | V30: 45777 | W30: Good client. Happy with network. | X30: Direct Mail | Z30: Active | AA30: 46152 | AB30: 46189 | AC30: 46507 | AD30: Low | AE30: No
A31: 22 | B31: Betty | C31: Evans | D31: (275) 790-1878 | F31: betty.evans@email.com | G31: 5078 Oak Ave | H31: Tampa | I31: NC | J31: Wayne | K31: 83147 | L31: 15736 | M31: =IF(L31<>"",DATEDIF(L31,TODAY(),"Y"),"") | N31: QWW-49561-489 | O31: 45661 | P31: 45663 | Q31: MAPD | R31: Molina | S31: Molina Total Care | T31: 64.39 | U31: =IF(T31<>"",T31*12,"") | V31: 45906 | W31: Good client. Potential referral. | X31: Referral – Client | Y31: Gerald Robinson | Z31: Active | AA31: 46114 | AB31: 46184 | AC31: 46271 | AD31: Low | AE31: Yes | AF31: Dental & vision add-on opportunity
A32: 23 | B32: Doris | C32: Phillips | D32: (905) 808-8699 | G32: 4732 Cedar St | H32: San Diego | I32: AZ | J32: San Bernardino | K32: 40595 | L32: 21250 | M32: =IF(L32<>"",DATEDIF(L32,TODAY(),"Y"),"") | N32: JXV-47965-217 | O32: 45637 | P32: 45719 | Q32: Medigap Plan N | R32: UnitedHealthcare | S32: AARP Medicare Supplement Plan G | T32: 146.63 | U32: =IF(T32<>"",T32*12,"") | V32: 45826 | W32: Good client. Ask about dental. | X32: Internet Lead | Y32: Richard Jones | Z32: Active | AA32: 46166 | AB32: 46187 | AC32: 46191 | AD32: Medium | AE32: Yes | AF32: Dental & vision add-on opportunity
A33: 24 | B33: Robert | C33: Moore | D33: (812) 240-8078 | E33: (818) 456-1423 | G33: 9524 Elm St | H33: San Diego | I33: TX | J33: Wayne | K33: 45325 | L33: 15734 | M33: =IF(L33<>"",DATEDIF(L33,TODAY(),"Y"),"") | N33: VBF-89502-767 | O33: 45663 | P33: 45705 | Q33: Medigap Plan N | R33: Wellcare | S33: Wellcare Value Script | T33: 149.82 | U33: =IF(T33<>"",T33*12,"") | V33: 45922 | W33: Good client. Ask about dental. | X33: TV/Radio | Y33: Gerald Evans | Z33: Active | AA33: 46111 | AB33: 46211 | AC33: 46287 | AD33: Low | AE33: Maybe
A34: 25 | B34: Ralph | C34: Garcia | D34: (522) 458-6296 | F34: ralph.garcia@email.com | G34: 8531 Oak Ln | H34: Denver | I34: TX | J34: Harris | K34: 64165 | L34: 18637 | M34: =IF(L34<>"",DATEDIF(L34,TODAY(),"Y"),"") | N34: BGT-69167-740 | O34: 45663 | P34: 45582 | Q34: PDP | R34: Molina | S34: Molina Value Plus | T34: 39.69 | U34: =IF(T34<>"",T34*12,"") | V34: 45803 | W34: Good client. Satisfied with plan. | X34: Internet Lead | Z34: Active | AA34: 46124 | AB34: 46212 | AC34: 46533 | AD34: Low | AE34: Yes | AF34: Dental & vision add-on opportunity
A35: 26 | B35: Ernest | C35: Wilson | D35: (316) 672-2924 | E35: (357) 710-5781 | F35: ernest.wilson@email.com | G35: 4579 Cedar Dr | H35: Denver | I35: WA | J35: Riverside | K35: 41946 | L35: 16914 | M35: =IF(L35<>"",DATEDIF(L35,TODAY(),"Y"),"") | N35: RUE-74122-713 | O35: 45646 | P35: 45585 | Q35: Medigap Plan G | R35: Wellcare | S35: Wellcare Value Script | T35: 201.47 | U35: =IF(T35<>"",T35*12,"") | V35: 46132 | W35: Good client. Ask about dental. | X35: Direct Mail | Y35: Frank Rivera | Z35: Disenrolled | AA35: 46123 | AB35: 46182 | AC35: 46497 | AD35: Medium | AE35: Yes | AF35: Dental & vision add-on opportunity
A36: 27 | B36: Marie | C36: Perez | D36: (529) 393-4912 | G36: 6830 Oak Blvd | H36: Las Vegas | I36: WA | J36: Tarrant | K36: 71993 | L36: 18866 | M36: =IF(L36<>"",DATEDIF(L36,TODAY(),"Y"),"") | N36: ZPP-39115-137 | O36: 45744 | P36: 45648 | Q36: MAPD | R36: Wellcare | S36: Wellcare Classic | T36: 163.53 | U36: =IF(T36<>"",T36*12,"") | V36: 45850 | W36: Good client. Happy with network. | X36: Social Media | Z36: Active | AA36: 46133 | AB36: 46212 | AC36: 46215 | AD36: Medium | AE36: No
A37: 28 | B37: Barbara | C37: Scott | D37: (536) 890-9742 | G37: 8094 Elm St | H37: Philadelphia | I37: WA | J37: Palm Beach | K37: 18968 | L37: 22378 | M37: =IF(L37<>"",DATEDIF(L37,TODAY(),"Y"),"") | N37: HXY-54727-864 | O37: 45753 | P37: 45665 | Q37: Medigap Plan N | R37: Humana | S37: Humana Choice PPO | T37: 80.46 | U37: =IF(T37<>"",T37*12,"") | V37: 45937 | W37: Good client. Satisfied with plan. | X37: Social Media | Y37: Milton Miller | Z37: Active | AA37: 46096 | AB37: 46221 | AC37: 46302 | AD37: Low | AE37: Yes | AF37: Dental & vision add-on opportunity
A38: 29 | B38: Rose | C38: Moore | D38: (824) 591-4945 | F38: rose.moore@email.com | G38: 3904 Cedar Blvd | H38: Denver | I38: IL | J38: Pinellas | K38: 43466 | L38: 18773 | M38: =IF(L38<>"",DATEDIF(L38,TODAY(),"Y"),"") | N38: YAR-59955-261 | O38: 45758 | P38: 45663 | Q38: MAPD | R38: Wellcare | S38: Wellcare Preferred | T38: 81.4 | U38: =IF(T38<>"",T38*12,"") | V38: 45996 | W38: Good client. Potential referral. | X38: Referral – Agent | Y38: Raymond Evans | Z38: Active | AA38: 46088 | AB38: 46188 | AC38: 46361 | AD38: Medium | AE38: No
A39: 30 | B39: Gerald | C39: Collins | D39: (874) 605-5497 | F39: gerald.collins@email.com | G39: 903 Elm Dr | H39: Chicago | I39: NC | J39: Broward | K39: 40162 | L39: 20065 | M39: =IF(L39<>"",DATEDIF(L39,TODAY(),"Y"),"") | N39: WNH-45106-794 | O39: 45583 | P39: 45592 | Q39: Medigap Plan G | R39: Wellcare | S39: Wellcare Classic | T39: 130.58 | U39: =IF(T39<>"",T39*12,"") | V39: 45710 | W39: Good client. Ask about dental. | X39: Internet Lead | Y39: Lillian Turner | Z39: Inactive | AA39: 46086 | AB39: 46195 | AC39: 46440 | AD39: Low | AE39: No
A40: 31 | B40: Margaret | C40: Robinson | D40: (463) 693-5835 | E40: (546) 317-8673 | F40: margaret.robinson@email.com | G40: 2406 Maple Dr | H40: Seattle | I40: OH | J40: Hillsborough | K40: 57942 | L40: 18369 | M40: =IF(L40<>"",DATEDIF(L40,TODAY(),"Y"),"") | N40: CPA-59791-226 | O40: 45660 | P40: 45682 | Q40: MAPD | R40: Molina | S40: Molina Dual Choice | T40: 141.27 | U40: =IF(T40<>"",T40*12,"") | V40: 46100 | W40: Good client. Potential referral. | X40: Community Event | Y40: Lillian Young | Z40: Active | AA40: 46106 | AB40: 46200 | AC40: 46465 | AD40: Medium | AE40: Yes | AF40: Dental & vision add-on opportunity
A41: 32 | B41: Barbara | C41: Parker | D41: (246) 238-5986 | E41: (318) 299-4846 | F41: barbara.parker@email.com | G41: 2322 Cedar Dr | H41: Atlanta | I41: MI | J41: Riverside | K41: 97881 | L41: 15229 | M41: =IF(L41<>"",DATEDIF(L41,TODAY(),"Y"),"") | N41: ZUQ-37797-770 | O41: 45751 | P41: 45651 | Q41: Medigap Plan G | R41: Anthem/BCBS | S41: Anthem MediBlue Plus | T41: 192.15 | U41: =IF(T41<>"",T41*12,"") | V41: 45979 | W41: Good client. Happy with network. | X41: Social Media | Z41: Active | AA41: 46086 | AB41: 46196 | AC41: 46344 | AD41: Low | AE41: No
A42: 33 | B42: Frank | C42: Williams | D42: (394) 325-8450 | G42: 9883 Oak St | H42: Atlanta | I42: IL | J42: Broward | K42: 41925 | L42: 17221 | M42: =IF(L42<>"",DATEDIF(L42,TODAY(),"Y"),"") | N42: EVG-24394-700 | O42: 45721 | P42: 45717 | Q42: MA-Only | R42: Devoted Health | S42: Devoted Choice | T42: 117.71 | U42: =IF(T42<>"",T42*12,"") | V42: 45709 | W42: Good client. Potential referral. | X42: Internet Lead | Y42: Gladys Anderson | Z42: Active | AA42: 46093 | AB42: 46199 | AC42: 46439 | AD42: Medium | AE42: Maybe
A43: 34 | B43: Frank | C43: Taylor | D43: (329) 959-7897 | F43: frank.taylor@email.com | G43: 7902 Cedar Blvd | H43: Seattle | I43: FL | J43: Palm Beach | K43: 87812 | L43: 20570 | M43: =IF(L43<>"",DATEDIF(L43,TODAY(),"Y"),"") | N43: DRT-41710-844 | O43: 45576 | P43: 45608 | Q43: Medigap Plan N | R43: Aetna | S43: Aetna Medicare Eagle Plan | T43: 73.68 | U43: =IF(T43<>"",T43*12,"") | V43: 45808 | W43: Good client. Happy with network. | X43: Referral – Agent | Z43: Active | AA43: 46134 | AB43: 46178 | AC43: 46538 | AD43: Low | AE43: Yes | AF43: Dental & vision add-on opportunity
A44: 35 | B44: Henry | C44: Johnson | D44: (799) 761-6327 | F44: henry.johnson@email.com | G44: 4931 Cedar Ln | H44: Philadelphia | I44: NC | J44: Wayne | K44: 66387 | L44: 17355 | M44: =IF(L44<>"",DATEDIF(L44,TODAY(),"Y"),"") | N44: DZD-94522-540 | O44: 45661 | P44: 45718 | Q44: Medigap Plan G | R44: UnitedHealthcare | S44: AARP MedicareComplete | T44: 106.02 | U44: =IF(T44<>"",T44*12,"") | V44: 46091 | W44: Good client. Check drug coverage. | X44: Community Event | Z44: Active | AA44: 46167 | AB44: 46185 | AC44: 46456 | AD44: High | AE44: No
...

Sheet 🎯 LEAD TRACKER
A1: 🎯 LEAD TRACKER
A2: Track every lead: source, cost, status, conversion rate, and ROI. Know where your best leads come from.
A4: Total Leads | D4: Contacted | G4: Converted | J4: Conv Rate % | M4: Total Lead Cost | P4: Cost Per Sale
A5: =COUNTA(B9:B308) | D5: =COUNTIF(I9:I308,"Contacted")+COUNTIF(I9:I308,"Appointment Set") | G5: =COUNTIF(I9:I308,"Enrolled") | J5: =IFERROR(COUNTIF(I9:I308,"Enrolled")/COUNTA(B9:B308),0) | M5: =IFERROR(SUM(G9:G308),0) | P5: =IFERROR(SUM(G9:G308)/COUNTIF(I9:I308,"Enrolled"),0)
A8: # | B8: Date Received | C8: Prospect Name | D8: Phone | E8: Email | F8: Lead Source | G8: Lead Cost $ | H8: Lead Score | I8: Status | J8: Agent Notes | K8: Next Follow-Up | L8: DOB | M8: State | N8: County | O8: Plan Interest | P8: Carrier Interest | Q8: Conversion Date | R8: Outcome | S8: Cost Per Lead $ | T8: ROI
A9: 1 | B9: 46152 | C9: Eugene Sanchez | D9: (287) 295-8075 | F9: Social Media | G9: 8.31 | H9: 1 - Hot | I9: DNC | J9: Budget conscious. | L9: 21072 | M9: FL | N9: Alameda | O9: Medigap Plan N | P9: Devoted Health | S9: 8.31
A10: 2 | B10: 46085 | C10: Norma Davis | D10: (791) 719-4485 | F10: Social Media | G10: 16.29 | H10: 2 - Warm | I10: Contacted | J10: Chronic condition - DSNP candidate. | K10: 46180 | L10: 20206 | M10: IL | N10: Alameda | O10: PDP | P10: Humana | S10: 16.29
A11: 3 | B11: 46168 | C11: Thelma Clark | D11: (479) 919-6062 | E11: thelma@email.com | F11: Direct Mail | G11: 19.83 | H11: 2 - Warm | I11: Enrolled | J11: Budget conscious. | K11: 46182 | L11: 22724 | M11: CA | N11: Miami-Dade | O11: MAPD | P11: Aetna | Q11: 46094 | R11: Enrolled | S11: 19.83
A12: 4 | B12: 46136 | C12: Harold Garcia | D12: (972) 832-1815 | E12: harold@email.com | F12: Direct Mail | G12: 14.35 | H12: 1 - Hot | I12: Enrolled | J12: Moving to FL. | K12: 46182 | L12: 17368 | M12: GA | N12: Tarrant | O12: Medigap Plan N | P12: Molina | Q12: 46122 | R12: Enrolled | S12: 14.35
A13: 5 | B13: 46119 | C13: Frank Lee | D13: (813) 256-1125 | F13: Referral – Client | G13: 0 | H13: 1 - Hot | I13: Contacted | J13: Losing employer coverage. | K13: 46189 | L13: 21226 | M13: OH | N13: Hillsborough | O13: MAPD | P13: UnitedHealthcare
A14: 6 | B14: 46074 | C14: Ralph Morris | D14: (959) 243-8147 | F14: Social Media | G14: 11.5 | H14: 1 - Hot | I14: New | J14: Compare plan options. | K14: 46204 | L14: 18872 | M14: GA | N14: Miami-Dade | O14: Medigap Plan G | P14: Wellcare | S14: 11.5
A15: 7 | B15: 46064 | C15: William Sanchez | D15: (308) 449-8138 | E15: william@email.com | F15: Internet Lead | G15: 44.09 | H15: 1 - Hot | I15: New | J15: Referral from client. | K15: 46204 | L15: 21884 | M15: OH | N15: Hillsborough | O15: MA-Only | P15: Devoted Health | S15: 44.09
A16: 8 | B16: 46149 | C16: Leo Moore | D16: (462) 402-3842 | E16: leo@email.com | F16: Referral – Client | G16: 0 | H16: 2 - Warm | I16: Interested | J16: Compare plan options. | K16: 46181 | L16: 20670 | M16: NC | N16: Wayne | O16: Medigap Plan N | P16: Molina
A17: 9 | B17: 46024 | C17: Vernon Mitchell | D17: (560) 719-2215 | F17: Cold Call | G17: 0 | H17: 2 - Warm | I17: Contacted | J17: Chronic condition - DSNP candidate. | K17: 46178 | L17: 22422 | M17: IL | N17: Sacramento | O17: MAPD | P17: Humana
A18: 10 | B18: 46021 | C18: Clarence Carter | D18: (713) 354-2013 | F18: Social Media | G18: 16.65 | H18: 2 - Warm | I18: Appointment Set | J18: Budget conscious. | K18: 46192 | L18: 21828 | M18: WA | N18: Harris | O18: MAPD | P18: Anthem/BCBS | S18: 16.65
A19: 11 | B19: 46014 | C19: Milton Scott | D19: (542) 267-6401 | F19: TV/Radio | G19: 38.56 | H19: 1 - Hot | I19: New | J19: Has Medicaid. | K19: 46197 | L19: 19402 | M19: CO | N19: Palm Beach | O19: PDP | P19: Humana | S19: 38.56
A20: 12 | B20: 46032 | C20: Louis Torres | D20: (858) 536-3093 | E20: louis@email.com | F20: Referral – Agent | G20: 0 | H20: 2 - Warm | I20: Enrolled | J20: Referral from client. | K20: 46189 | L20: 21756 | M20: WA | N20: Cook | O20: Medigap Plan N | P20: Devoted Health | Q20: 46173 | R20: Enrolled
A21: 13 | B21: 46100 | C21: Arthur Robinson | D21: (303) 719-9843 | E21: arthur@email.com | F21: Referral – Agent | G21: 0 | H21: 1 - Hot | I21: Interested | J21: Referral from client. | K21: 46204 | L21: 22113 | M21: IL | N21: Palm Beach | O21: Medigap Plan N | P21: Cigna
A22: 14 | B22: 46002 | C22: Richard Moore | D22: (936) 443-8277 | E22: richard@email.com | F22: Referral – Agent | G22: 0 | H22: 3 - Cool | I22: Not Interested | J22: Chronic condition - DSNP candidate. | L22: 19988 | M22: AZ | N22: Sacramento | O22: Medigap Plan G | P22: Anthem/BCBS
A23: 15 | B23: 46111 | C23: Arthur Parker | D23: (856) 692-7081 | E23: arthur@email.com | F23: TV/Radio | G23: 58.82 | H23: 1 - Hot | I23: Appointment Set | J23: Compare plan options. | K23: 46178 | L23: 16913 | M23: OH | N23: Maricopa | O23: MA-Only | P23: Wellcare | S23: 58.82
A24: 16 | B24: 46162 | C24: Rose Nelson | D24: (714) 582-4862 | F24: Referral – Agent | G24: 0 | H24: 3 - Cool | I24: Enrolled | J24: Compare plan options. | K24: 46189 | L24: 18687 | M24: FL | N24: Hillsborough | O24: MAPD | P24: Devoted Health | Q24: 46157 | R24: Enrolled
A25: 17 | B25: 46171 | C25: Betty Williams | D25: (420) 353-9991 | E25: betty@email.com | F25: Community Event | G25: 10.48 | H25: 1 - Hot | I25: Enrolled | K25: 46185 | L25: 16760 | M25: TX | N25: Sacramento | O25: MA-Only | P25: Wellcare | Q25: 46160 | R25: Enrolled | S25: 10.48
A26: 18 | B26: 46139 | C26: Robert White | D26: (639) 201-6780 | F26: Social Media | G26: 15.88 | H26: 2 - Warm | I26: Enrolled | J26: Has Medicaid. | K26: 46186 | L26: 20651 | M26: WA | N26: Maricopa | O26: Medigap Plan N | P26: Devoted Health | Q26: 46167 | R26: Enrolled | S26: 15.88
A27: 19 | B27: 46158 | C27: Howard Ramirez | D27: (446) 950-2698 | E27: howard@email.com | F27: Internet Lead | G27: 28.54 | H27: 3 - Cool | I27: Enrolled | J27: Budget conscious. | K27: 46188 | L27: 21334 | M27: IL | N27: Alameda | O27: PDP | P27: Aetna | Q27: 46088 | R27: Enrolled | S27: 28.54
A28: 20 | B28: 46164 | C28: Eugene Collins | D28: (404) 242-6170 | E28: eugene@email.com | F28: TV/Radio | G28: 41.02 | H28: 2 - Warm | I28: Contacted | J28: Referral from client. | K28: 46202 | L28: 18158 | M28: NC | N28: San Bernardino | O28: MAPD | P28: Anthem/BCBS | S28: 41.02
A29: 21 | B29: 46089 | C29: Carol Hall | D29: (391) 708-9151 | F29: Internet Lead | G29: 41.38 | H29: 3 - Cool | I29: Not Interested | J29: Referral from client. | L29: 19854 | M29: CO | N29: Cook | O29: MAPD | P29: Cigna | S29: 41.38
A30: 22 | B30: 45999 | C30: Gladys Jackson | D30: (654) 559-8325 | F30: Community Event | G30: 8.95 | H30: 2 - Warm | I30: Not Interested | J30: Budget conscious. | L30: 17931 | M30: WA | N30: Los Angeles | O30: MAPD | P30: Cigna | S30: 8.95
A31: 23 | B31: 46010 | C31: Arthur Nelson | D31: (570) 592-1530 | E31: arthur@email.com | F31: Referral – Agent | G31: 0 | H31: 2 - Warm | I31: Enrolled | J31: Chronic condition - DSNP candidate. | K31: 46188 | L31: 18611 | M31: NC | N31: Maricopa | O31: Medigap Plan N | P31: Aetna | Q31: 46108 | R31: Enrolled
A32: 24 | B32: 46108 | C32: Arthur Sanchez | D32: (466) 920-8311 | F32: Cold Call | G32: 0 | H32: 1 - Hot | I32: New | K32: 46201 | L32: 19176 | M32: NC | N32: Clark | O32: MAPD | P32: Aetna
A33: 25 | B33: 46159 | C33: Patricia Scott | D33: (755) 497-5914 | E33: patricia@email.com | F33: Referral – Agent | G33: 0 | H33: 2 - Warm | I33: Contacted | J33: Turning 65 soon. | K33: 46194 | L33: 18541 | M33: AZ | N33: Broward | O33: MA-Only | P33: Aetna
A34: 26 | B34: 46096 | C34: Thomas Adams | D34: (934) 936-8842 | E34: thomas@email.com | F34: Internet Lead | G34: 27.74 | H34: 1 - Hot | I34: Enrolled | J34: Has Medicaid. | K34: 46189 | L34: 16209 | M34: CA | N34: Hillsborough | O34: MAPD | P34: Molina | Q34: 46116 | R34: Enrolled | S34: 27.74
A35: 27 | B35: 46047 | C35: Vernon Hill | D35: (256) 327-9488 | F35: Cold Call | G35: 0 | H35: 3 - Cool | I35: Interested | J35: Turning 65 soon. | K35: 46206 | L35: 20826 | M35: CO | N35: Riverside | O35: PDP | P35: Wellcare
A36: 28 | B36: 46024 | C36: James Harris | D36: (794) 357-3804 | E36: james@email.com | F36: Direct Mail | G36: 15.71 | H36: 2 - Warm | I36: Lost | L36: 18878 | M36: FL | N36: Orange | O36: MAPD | P36: UnitedHealthcare | S36: 15.71
A37: 29 | B37: 46052 | C37: Henry Rivera | D37: (901) 615-5873 | F37: Community Event | G37: 6.75 | H37: 2 - Warm | I37: Contacted | J37: Needs MAPD in county. | K37: 46184 | L37: 20766 | M37: GA | N37: Tarrant | O37: Medigap Plan G | P37: Anthem/BCBS | S37: 6.75
A38: 30 | B38: 46044 | C38: Walter Carter | D38: (308) 526-4960 | F38: Referral – Agent | G38: 0 | H38: 3 - Cool | I38: Interested | J38: Moving to FL. | K38: 46194 | L38: 17580 | M38: CA | N38: Broward | O38: MAPD | P38: Wellcare
A39: 31 | B39: 46135 | C39: Evelyn Phillips | D39: (727) 678-9171 | E39: evelyn@email.com | F39: Social Media | G39: 9.26 | H39: 2 - Warm | I39: Contacted | J39: Chronic condition - DSNP candidate. | K39: 46192 | L39: 22770 | M39: GA | N39: Bexar | O39: Medigap Plan G | P39: Anthem/BCBS | S39: 9.26
A40: 32 | B40: 46148 | C40: Joseph Roberts | D40: (337) 470-6992 | E40: joseph@email.com | F40: Cold Call | G40: 0 | H40: 1 - Hot | I40: Contacted | J40: Budget conscious. | K40: 46190 | L40: 22246 | M40: FL | N40: Alameda | O40: MA-Only | P40: Devoted Health
A41: 33 | B41: 46151 | C41: Ernest Lewis | D41: (582) 547-6990 | E41: ernest@email.com | F41: Referral – Client | G41: 0 | H41: 1 - Hot | I41: Interested | J41: Losing employer coverage. | K41: 46189 | L41: 16771 | M41: PA | N41: Los Angeles | O41: MAPD | P41: UnitedHealthcare
A42: 34 | B42: 46075 | C42: Betty Edwards | D42: (957) 506-6511 | E42: betty@email.com | F42: Cold Call | G42: 0 | H42: 2 - Warm | I42: Contacted | J42: Referral from client. | K42: 46196 | L42: 16361 | M42: CO | N42: Sacramento | O42: Medigap Plan G | P42: UnitedHealthcare
A43: 35 | B43: 46108 | C43: Arthur Perez | D43: (994) 792-4728 | E43: arthur@email.com | F43: Referral – Client | G43: 0 | H43: 4 - Cold | I43: Enrolled | K43: 46197 | L43: 17254 | M43: PA | N43: Miami-Dade | O43: MA-Only | P43: Anthem/BCBS | Q43: 46171 | R43: Enrolled
...

Sheet 📞 FOLLOW-UP CENTER
A1: 📞 FOLLOW-UP CENTER
A2: Automatic color coding: 🔴 Overdue 🟡 Due Today/Soon 🟢 Upcoming ✅ Completed
A4: 🔴 OVERDUE | D4: 🟡 DUE TODAY | G4: 🟢 UPCOMING | J4: ✅ COMPLETED | M4: ⬜ PENDING
A6: # | B6: Client Name | C6: Phone | D6: Follow-Up Date | E6: Time | F6: Priority | G6: Contact Method | H6: Type | I6: Agent | J6: Status | K6: Outcome | L6: Call 1 Date | M6: Call 2 Date | N6: Call 3 Date | O6: Voicemail | P6: Notes
A7: 1 | B7: Arthur Murphy | C7: (780) 280-2403 | D7: 46168 | E7: 11:45 AM | F7: Low | G7: Email | H7: Retention | I7: Sarah Mitchell | J7: Pending | P7: Client asked about dental benefits.
A8: 2 | B8: Marie Green | C8: (485) 673-5092 | D8: 46170 | E8: 09:00 AM | F8: Low | G8: Video | H8: AEP Check-in | I8: Sarah Mitchell | J8: Pending | P8: Interested in DSNP.
A9: 3 | B9: Barbara Scott | C9: (536) 890-9742 | D9: 46171 | E9: 09:15 PM | F9: High | G9: Video | H9: Callback | I9: Sarah Mitchell | J9: Pending
A10: 4 | B10: Frank Williams | C10: (394) 325-8450 | D10: 46175 | E10: 11:00 PM | F10: Medium | G10: Phone | H10: AEP Check-in | I10: Sarah Mitchell | J10: Pending | P10: Client asked about dental benefits.
A11: 5 | B11: Mildred Davis | C11: (252) 294-7939 | D11: 46168 | E11: 09:45 PM | F11: Medium | G11: Phone | H11: Annual Review | I11: Sarah Mitchell | J11: Pending
A12: 6 | B12: Rose Moore | C12: (824) 591-4945 | D12: 46175 | E12: 08:00 AM | F12: High | G12: Phone | H12: Annual Review | I12: Sarah Mitchell | J12: Pending | P12: Needs SOA signed.
A13: 7 | B13: Carol White | C13: (625) 263-4388 | D13: 46173 | E13: 10:45 AM | F13: High | G13: Phone | H13: SEP Follow-Up | I13: Sarah Mitchell | J13: Pending | P13: Moving next month - SEP opportunity.
A14: 8 | B14: Harold Torres | C14: (467) 382-5349 | D14: 46169 | E14: 11:00 AM | F14: Medium | G14: Phone | H14: AEP Check-in | I14: Sarah Mitchell | J14: Pending
A15: 9 | B15: Barbara Scott | C15: (536) 890-9742 | D15: 46176 | E15: 09:15 PM | F15: High | G15: Phone | H15: Retention | I15: Sarah Mitchell | J15: In Progress | P15: Client asked about dental benefits.
A16: 10 | B16: Henry Johnson | C16: (799) 761-6327 | D16: 46176 | E16: 09:45 PM | F16: Medium | G16: Video | H16: AEP Check-in | I16: Sarah Mitchell | J16: In Progress | P16: Interested in DSNP.
A17: 11 | B17: Ralph Garcia | C17: (522) 458-6296 | D17: 46176 | E17: 08:30 PM | F17: Medium | G17: Video | H17: SEP Follow-Up | I17: Sarah Mitchell | J17: In Progress | P17: Needs SOA signed.
A18: 12 | B18: Ralph Walker | C18: (446) 907-8800 | D18: 46176 | E18: 09:30 PM | F18: Medium | G18: Email | H18: SEP Follow-Up | I18: Sarah Mitchell | J18: In Progress | P18: Client asked about dental benefits.
A19: 13 | B19: Harold Torres | C19: (467) 382-5349 | D19: 46193 | E19: 11:45 AM | F19: Low | G19: Video | H19: Annual Review | I19: Sarah Mitchell | J19: Pending | P19: Moving next month - SEP opportunity.
A20: 14 | B20: Harold Torres | C20: (467) 382-5349 | D20: 46197 | E20: 09:15 PM | F20: Medium | G20: Phone | H20: Retention | I20: Sarah Mitchell | J20: Pending | P20: Needs SOA signed.
A21: 15 | B21: Ethel Green | C21: (483) 941-9595 | D21: 46188 | E21: 08:45 PM | F21: Medium | G21: Video | H21: Retention | I21: Sarah Mitchell | J21: Pending
A22: 16 | B22: Marie Perez | C22: (529) 393-4912 | D22: 46191 | E22: 11:15 PM | F22: Medium | G22: Phone | H22: Welcome Call | I22: Sarah Mitchell | J22: Pending | P22: Compare Humana vs UHC.
A23: 17 | B23: Frances Ramirez | C23: (645) 380-9548 | D23: 46194 | E23: 10:15 AM | F23: Medium | G23: Video | H23: Callback | I23: Sarah Mitchell | J23: Pending | P23: Client asked about dental benefits.
A24: 18 | B24: Carol King | C24: (720) 282-4044 | D24: 46188 | E24: 08:45 AM | F24: Low | G24: Video | H24: Annual Review | I24: Sarah Mitchell | J24: Pending | P24: Client asked about dental benefits.
A25: 19 | B25: Carol White | C25: (625) 263-4388 | D25: 46178 | E25: 11:30 PM | F25: Low | G25: Phone | H25: Annual Review | I25: Sarah Mitchell | J25: Pending
A26: 20 | B26: Carol King | C26: (720) 282-4044 | D26: 46195 | E26: 10:45 PM | F26: Medium | G26: Phone | H26: AEP Check-in | I26: Sarah Mitchell | J26: Pending | P26: Compare Humana vs UHC.
A27: 21 | B27: Rose Parker | C27: (403) 350-1400 | D27: 46194 | E27: 10:15 PM | F27: Medium | G27: Email | H27: Callback | I27: Sarah Mitchell | J27: Pending | P27: Check formulary for Metformin.
A28: 22 | B28: Frances Thompson | C28: (371) 820-2876 | D28: 46180 | E28: 09:45 AM | F28: Low | G28: Email | H28: SEP Follow-Up | I28: Sarah Mitchell | J28: Pending | P28: Needs SOA signed.
A29: 23 | B29: Mildred Lee | C29: (418) 718-5345 | D29: 46187 | E29: 09:45 PM | F29: High | G29: Email | H29: AEP Check-in | I29: Sarah Mitchell | J29: Pending | P29: Moving next month - SEP opportunity.
A30: 24 | B30: Ralph Garcia | C30: (522) 458-6296 | D30: 46179 | E30: 11:30 AM | F30: High | G30: Email | H30: Retention | I30: Sarah Mitchell | J30: Pending
A31: 25 | B31: Barbara Parker | C31: (246) 238-5986 | D31: 46179 | E31: 11:30 AM | F31: Medium | G31: Video | H31: Annual Review | I31: Sarah Mitchell | J31: Pending | P31: Compare Humana vs UHC.
A32: 26 | B32: Barbara Scott | C32: (536) 890-9742 | D32: 46187 | E32: 10:30 AM | F32: Medium | G32: Phone | H32: AEP Check-in | I32: Sarah Mitchell | J32: Pending
A33: 27 | B33: Betty Evans | C33: (275) 790-1878 | D33: 46178 | E33: 08:45 PM | F33: Low | G33: Phone | H33: Welcome Call | I33: Sarah Mitchell | J33: Pending
A34: 28 | B34: Gerald Collins | C34: (874) 605-5497 | D34: 46190 | E34: 09:15 AM | F34: Low | G34: Email | H34: Callback | I34: Sarah Mitchell | J34: Pending | P34: Needs SOA signed.
A35: 29 | B35: Frances Thompson | C35: (371) 820-2876 | D35: 46159 | E35: 10:15 PM | F35: Low | G35: Email | H35: Callback | I35: Sarah Mitchell | J35: Completed | K35: Enrolled | L35: 46152 | P35: Compare Humana vs UHC.
A36: 30 | B36: Barbara Scott | C36: (536) 890-9742 | D36: 46169 | E36: 09:45 PM | F36: High | G36: Phone | H36: Welcome Call | I36: Sarah Mitchell | J36: Completed | K36: Enrolled | L36: 46159
A37: 31 | B37: Lillian Davis | C37: (438) 717-1434 | D37: 46123 | E37: 11:15 PM | F37: Low | G37: Phone | H37: Callback | I37: Sarah Mitchell | J37: Completed | K37: Enrolled | L37: 46163 | P37: Client asked about dental benefits.
A38: 32 | B38: Marie Green | C38: (485) 673-5092 | D38: 46119 | E38: 09:45 AM | F38: Medium | G38: Phone | H38: Callback | I38: Sarah Mitchell | J38: Completed | K38: Rescheduled | L38: 46155 | P38: Needs SOA signed.
A39: 33 | B39: Arthur Murphy | C39: (780) 280-2403 | D39: 46136 | E39: 11:30 AM | F39: Medium | G39: Phone | H39: SEP Follow-Up | I39: Sarah Mitchell | J39: Completed | K39: Needs More Info | L39: 46146 | P39: Moving next month - SEP opportunity.
A40: 34 | B40: Rose Moore | C40: (824) 591-4945 | D40: 46169 | E40: 08:45 PM | F40: High | G40: Video | H40: AEP Check-in | I40: Sarah Mitchell | J40: Completed | K40: Needs More Info | L40: 46165 | P40: Needs SOA signed.
A41: 35 | B41: Carol White | C41: (625) 263-4388 | D41: 46160 | E41: 10:00 AM | F41: Medium | G41: Email | H41: Annual Review | I41: Sarah Mitchell | J41: Completed | L41: 46169 | P41: Compare Humana vs UHC.
A42: 36 | B42: Ernest Wilson | C42: (316) 672-2924 | D42: 46125 | E42: 11:45 PM | F42: Medium | G42: Video | H42: Annual Review | I42: Sarah Mitchell | J42: Completed | K42: Needs More Info | L42: 46155 | P42: Client asked about dental benefits.
...

Sheet 📅 APPOINTMENTS
A1: 📅 APPOINTMENT CENTER
A2: Schedule, confirm, and track every appointment. Monitor conversion from appointment to sale.
A4: Total Appts | D4: Confirmed | G4: Completed | J4: No Shows | M4: Sales Made | P4: Conv Rate
A5: =COUNTA(B8:B307) | D5: =COUNTIF(L8:L307,"Confirmed") | G5: =COUNTIF(M8:M307,"Completed") | J5: =COUNTIF(L8:L307,"No Show") | M5: =COUNTIF(N8:N307,"Yes") | P5: =IFERROR(COUNTIF(N8:N307,"Yes")/COUNTIF(M8:M307,"Completed"),0)
A7: # | B7: Client Name | C7: Phone | D7: Date | E7: Time | F7: Duration | G7: Type | H7: Method | I7: Location | J7: Carrier Discussed | K7: Agent | L7: Confirmation | M7: Outcome | N7: Sale Made | O7: Plan Sold | P7: Premium $ | Q7: Commission Est $ | R7: Calendar Link | S7: Follow-Up Date | T7: Notes
A8: 1 | B8: Carol White | C8: (625) 263-4388 | D8: 46168 | E8: 09:30 AM | F8: 60 | G8: Initial Consult | H8: Phone | I8: Phone | J8: Wellcare | K8: Sarah Mitchell | L8: No Show | M8: Completed | N8: Yes | O8: Wellcare Classic | P8: 44.32 | R8: https://calendar.google.com | S8: 46190 | T8: Confirm SOA before call.
A9: 2 | B9: Carol King | C9: (720) 282-4044 | D9: 46174 | E9: 11:30 PM | F9: 30 | G9: Plan Review | H9: In-Person | I9: Home | J9: Molina | K9: Sarah Mitchell | L9: Confirmed | M9: Completed | N9: Yes | O9: Molina Total Care | P9: 7.31 | R9: https://calendar.google.com | S9: 46190
A10: 3 | B10: Frances Thompson | C10: (371) 820-2876 | D10: 46160 | E10: 11:00 AM | F10: 60 | G10: Enrollment | H10: Phone | I10: Phone | J10: Humana | K10: Sarah Mitchell | L10: Confirmed | M10: Completed | N10: No | R10: https://calendar.google.com | T10: Send plan comparison.
A11: 4 | B11: Thelma Brown | C11: (317) 898-9797 | D11: 46112 | E11: 11:00 PM | F11: 60 | G11: Plan Review | H11: In-Person | I11: Home | J11: Humana | K11: Sarah Mitchell | L11: Confirmed | M11: Completed | N11: No | R11: https://calendar.google.com
A12: 5 | B12: Hazel White | C12: (267) 416-6155 | D12: 46174 | E12: 09:30 PM | F12: 30 | G12: Initial Consult | H12: Phone | I12: Phone | J12: Aetna | K12: Sarah Mitchell | L12: Confirmed | M12: Completed | N12: No | R12: https://calendar.google.com | T12: Check network.
A13: 6 | B13: Ethel Green | C13: (483) 941-9595 | D13: 46141 | E13: 09:00 AM | F13: 30 | G13: Retention | H13: Phone | I13: Phone | J13: Wellcare | K13: Sarah Mitchell | L13: Confirmed | M13: Completed | N13: Yes | O13: Wellcare Classic | P13: 21.4 | R13: https://calendar.google.com | S13: 46185
A14: 7 | B14: Gerald Collins | C14: (874) 605-5497 | D14: 46139 | E14: 10:30 AM | F14: 30 | G14: Enrollment | H14: Video | I14: Zoom | J14: Wellcare | K14: Sarah Mitchell | L14: Confirmed | M14: Completed | N14: Yes | O14: Wellcare Classic | P14: 130.58 | R14: https://calendar.google.com | S14: 46186 | T14: Send plan comparison.
A15: 8 | B15: Barbara Parker | C15: (246) 238-5986 | D15: 46150 | E15: 10:00 PM | F15: 45 | G15: Retention | H15: In-Person | I15: Home | J15: Anthem/BCBS | K15: Sarah Mitchell | L15: Confirmed | M15: Completed | N15: No | R15: https://calendar.google.com | T15: Review medications first.
A16: 9 | B16: Lillian Davis | C16: (438) 717-1434 | D16: 46133 | E16: 11:00 AM | F16: 30 | G16: Annual Review | H16: Phone | I16: Phone | J16: UnitedHealthcare | K16: Sarah Mitchell | L16: Confirmed | M16: Completed | N16: No | R16: https://calendar.google.com | T16: Confirm SOA before call.
A17: 10 | B17: Frances Thompson | C17: (371) 820-2876 | D17: 46164 | E17: 10:30 AM | F17: 30 | G17: Plan Review | H17: Phone | I17: Phone | J17: Humana | K17: Sarah Mitchell | L17: No Show | M17: Completed | N17: Yes | O17: Humana Gold Plus | P17: 8.35 | R17: https://calendar.google.com | S17: 46188
A18: 11 | B18: Frank Williams | C18: (394) 325-8450 | D18: 46158 | E18: 09:00 PM | F18: 45 | G18: Annual Review | H18: In-Person | I18: Home | J18: Devoted Health | K18: Sarah Mitchell | L18: Confirmed | M18: Completed | N18: Yes | O18: Devoted Choice | P18: 117.71 | R18: https://calendar.google.com | S18: 46185 | T18: Review medications first.
A19: 12 | B19: Ethel Green | C19: (483) 941-9595 | D19: 46135 | E19: 09:00 PM | F19: 30 | G19: Enrollment | H19: Video | I19: Zoom | J19: Wellcare | K19: Sarah Mitchell | L19: Confirmed | M19: Cancelled | N19: No | R19: https://calendar.google.com | T19: Check network.
A20: 13 | B20: Gerald Collins | C20: (874) 605-5497 | D20: 46135 | E20: 09:30 PM | F20: 45 | G20: Initial Consult | H20: Video | I20: Zoom | J20: Wellcare | K20: Sarah Mitchell | L20: Confirmed | M20: Cancelled | N20: No | R20: https://calendar.google.com
A21: 14 | B21: Carol King | C21: (720) 282-4044 | D21: 46164 | E21: 10:00 PM | F21: 30 | G21: Enrollment | H21: Phone | I21: Phone | J21: Molina | K21: Sarah Mitchell | L21: Confirmed | M21: Completed | N21: No | R21: https://calendar.google.com | T21: Send plan comparison.
A22: 15 | B22: Ernest Wilson | C22: (316) 672-2924 | D22: 46110 | E22: 09:30 AM | F22: 60 | G22: Enrollment | H22: Phone | I22: Phone | J22: Wellcare | K22: Sarah Mitchell | L22: Confirmed | M22: Cancelled | N22: No | R22: https://calendar.google.com | T22: Review medications first.
A23: 16 | B23: Carol White | C23: (625) 263-4388 | D23: 46163 | E23: 09:00 PM | F23: 45 | G23: Initial Consult | H23: Video | I23: Zoom | J23: Wellcare | K23: Sarah Mitchell | L23: Confirmed | M23: Completed | N23: No | R23: https://calendar.google.com | T23: Send plan comparison.
A24: 17 | B24: Henry Young | C24: (232) 538-2160 | D24: 46101 | E24: 09:30 AM | F24: 30 | G24: Enrollment | H24: In-Person | I24: Home | J24: Molina | K24: Sarah Mitchell | L24: No Show | M24: Completed | N24: Yes | O24: Molina Value Plus | P24: 74.38 | R24: https://calendar.google.com | S24: 46184
A25: 18 | B25: Hazel White | C25: (267) 416-6155 | D25: 46116 | E25: 10:00 PM | F25: 45 | G25: Plan Review | H25: Phone | I25: Phone | J25: Aetna | K25: Sarah Mitchell | L25: No Show | M25: Completed | N25: Yes | O25: Aetna Medicare Eagle Plan | P25: 197.69 | R25: https://calendar.google.com | S25: 46181 | T25: Send plan comparison.
A26: 19 | B26: Rose Parker | C26: (403) 350-1400 | D26: 46152 | E26: 11:00 AM | F26: 45 | G26: Enrollment | H26: Video | I26: Zoom | J26: Anthem/BCBS | K26: Sarah Mitchell | L26: Confirmed | M26: Completed | N26: Yes | O26: Anthem BlueMedicare PPO | P26: 147.02 | R26: https://calendar.google.com | S26: 46185 | T26: Client wants spouse on call.
A27: 20 | B27: Margaret Robinson | C27: (463) 693-5835 | D27: 46168 | E27: 11:00 AM | F27: 60 | G27: Enrollment | H27: Phone | I27: Phone | J27: Molina | K27: Sarah Mitchell | L27: Confirmed | M27: Completed | N27: Yes | O27: Molina Dual Choice | P27: 141.27 | R27: https://calendar.google.com | S27: 46179 | T27: Check network.
A28: 21 | B28: Doris Phillips | C28: (905) 808-8699 | D28: 46192 | E28: 11:30 PM | F28: 30 | G28: Annual Review | H28: In-Person | I28: Home | J28: UnitedHealthcare | K28: Sarah Mitchell | L28: Confirmed | M28: Pending | R28: https://calendar.google.com
A29: 22 | B29: Ethel Green | C29: (483) 941-9595 | D29: 46196 | E29: 10:00 AM | F29: 45 | G29: Initial Consult | H29: Phone | I29: Phone | J29: Wellcare | K29: Sarah Mitchell | L29: Unconfirmed | M29: Pending | R29: https://calendar.google.com | T29: Client wants spouse on call.
A30: 23 | B30: Doris Phillips | C30: (905) 808-8699 | D30: 46195 | E30: 11:00 PM | F30: 60 | G30: Plan Review | H30: Phone | I30: Phone | J30: UnitedHealthcare | K30: Sarah Mitchell | L30: Confirmed | M30: Pending | R30: https://calendar.google.com
A31: 24 | B31: Leo King | C31: (653) 827-9270 | D31: 46195 | E31: 09:00 PM | F31: 45 | G31: Enrollment | H31: Video | I31: Zoom | J31: Anthem/BCBS | K31: Sarah Mitchell | L31: Unconfirmed | M31: Pending | R31: https://calendar.google.com
A32: 25 | B32: Doris Phillips | C32: (905) 808-8699 | D32: 46195 | E32: 11:00 AM | F32: 30 | G32: Enrollment | H32: Phone | I32: Phone | J32: UnitedHealthcare | K32: Sarah Mitchell | L32: Unconfirmed | M32: Pending | R32: https://calendar.google.com
A33: 26 | B33: Barbara Parker | C33: (246) 238-5986 | D33: 46194 | E33: 09:00 PM | F33: 30 | G33: Plan Review | H33: Video | I33: Zoom | J33: Anthem/BCBS | K33: Sarah Mitchell | L33: Confirmed | M33: Pending | R33: https://calendar.google.com
A34: 27 | B34: Frank Taylor | C34: (329) 959-7897 | D34: 46192 | E34: 09:00 PM | F34: 30 | G34: Enrollment | H34: Phone | I34: Phone | J34: Aetna | K34: Sarah Mitchell | L34: Unconfirmed | M34: Pending | R34: https://calendar.google.com
A35: 28 | B35: Ethel Green | C35: (483) 941-9595 | D35: 46178 | E35: 09:00 AM | F35: 45 | G35: Plan Review | H35: Phone | I35: Phone | J35: Wellcare | K35: Sarah Mitchell | L35: Confirmed | M35: Pending | R35: https://calendar.google.com
A36: 29 | Q36: =IF(AND(P36<>"",P36>0),P36*12*0.04,"")
A37: 30 | Q37: =IF(AND(P37<>"",P37>0),P37*12*0.04,"")
A38: 31 | Q38: =IF(AND(P38<>"",P38>0),P38*12*0.04,"")
A39: 32 | Q39: =IF(AND(P39<>"",P39>0),P39*12*0.04,"")
A40: 33 | Q40: =IF(AND(P40<>"",P40>0),P40*12*0.04,"")
A41: 34 | Q41: =IF(AND(P41<>"",P41>0),P41*12*0.04,"")
A42: 35 | Q42: =IF(AND(P42<>"",P42>0),P42*12*0.04,"")
...

Sheet 📝 APPLICATIONS
A1: 📝 APPLICATION TRACKER
A2: Track every submitted application from pending through issued or declined.
A4: # | B4: Submit Date | C4: Client Name | D4: DOB | E4: Medicare # | F4: State | G4: County | H4: Plan Type | I4: Carrier | J4: Plan Name | K4: Effective Date | L4: Enrollment Type | M4: SEP Reason | N4: App Method | O4: SOA on File | P4: Status | Q4: Issue Date | R4: Decline Reason | S4: Agent | T4: Notes
A5: 1 | B5: 46071 | C5: Lillian Davis | D5: 19782 | E5: JAF-76574-384 | F5: CO | G5: Broward | H5: DSNP | I5: UnitedHealthcare | J5: AARP MedicareComplete | K5: 46357 | L5: New Enrollment | M5: N/A | N5: Online - Agent Portal | O5: Yes | P5: Issued | Q5: 46077 | S5: Sarah Mitchell | T5: Telephonic enrollment recorded.
A6: 2 | B6: 46089 | C6: Evelyn Miller | D6: 19509 | E6: NFN-64432-786 | F6: NC | G6: Alameda | H6: PDP | I6: Devoted Health | J6: Devoted Value | K6: 46174 | L6: OEP | M6: N/A | N6: E-App | O6: Yes | P6: Issued | Q6: 46091 | S6: Sarah Mitchell
A7: 3 | B7: 46042 | C7: Hazel White | D7: 19204 | E7: UUJ-77543-470 | F7: PA | G7: Riverside | H7: Medigap Plan G | I7: Aetna | J7: Aetna Medicare Eagle Plan | K7: 46327 | L7: OEP | M7: N/A | N7: Paper Application | O7: Yes | P7: Issued | Q7: 46045 | S7: Sarah Mitchell | T7: SOA on file.
A8: 4 | B8: 46016 | C8: Thelma Brown | D8: 20278 | E8: TFT-25889-961 | F8: MI | G8: Maricopa | H8: MA-Only | I8: Humana | J8: Humana Gold H5619 | K8: 46082 | L8: SEP | M8: Lost Medicaid | N8: Phone - Telephonic | O8: Yes | P8: Issued | Q8: 46020 | S8: Sarah Mitchell | T8: SOA on file.
A9: 5 | B9: 46166 | C9: Arthur Murphy | D9: 22145 | E9: TWQ-49835-873 | F9: NC | G9: Orange | H9: Medigap Plan N | I9: Aetna | J9: Aetna SilverScript | K9: 46357 | L9: New Enrollment | M9: N/A | N9: Online - Agent Portal | O9: Yes | P9: Issued | Q9: 46171 | S9: Sarah Mitchell | T9: SOA on file.
A10: 6 | B10: 46085 | C10: Henry Young | D10: 21230 | E10: VSH-87669-294 | F10: TX | G10: Hillsborough | H10: Medigap Plan N | I10: Molina | J10: Molina Value Plus | K10: 46296 | L10: Plan Change | M10: N/A | N10: Online - Agent Portal | O10: Yes | P10: Issued | Q10: 46087 | S10: Sarah Mitchell | T10: Paper app mailed.
A11: 7 | B11: 46130 | C11: Marie Green | D11: 21325 | E11: QSS-47570-160 | F11: CO | G11: Hillsborough | H11: DSNP | I11: UnitedHealthcare | J11: AARP Medicare Supplement Plan G | K11: 46174 | L11: AEP | M11: N/A | N11: Phone - Telephonic | O11: Yes | P11: Issued | Q11: 46136 | S11: Sarah Mitchell | T11: Telephonic enrollment recorded.
A12: 8 | B12: 46085 | C12: Carol King | D12: 19055 | E12: VWB-27868-773 | F12: FL | G12: Alameda | H12: MA-Only | I12: Molina | J12: Molina Total Care | K12: 46082 | L12: AEP | M12: N/A | N12: Paper Application | O12: Yes | P12: Issued | Q12: 46091 | S12: Sarah Mitchell | T12: Paper app mailed.
A13: 9 | B13: 46164 | C13: Mildred Lee | D13: 18004 | E13: RUZ-59666-108 | F13: WA | G13: Sacramento | H13: MA-Only | I13: Devoted Health | J13: Devoted Choice | K13: 46143 | L13: OEP | M13: N/A | N13: Online - Agent Portal | O13: Yes | P13: Issued | Q13: 46166 | S13: Sarah Mitchell | T13: Telephonic enrollment recorded.
A14: 10 | B14: 46101 | C14: Mildred Davis | D14: 20852 | E14: UAD-23442-658 | F14: MI | G14: Clark | H14: DSNP | I14: Humana | J14: Humana Gold H5619 | K14: 46054 | L14: AEP | M14: N/A | N14: Online - Agent Portal | O14: Yes | P14: Issued | Q14: 46107 | S14: Sarah Mitchell | T14: Paper app mailed.
A15: 11 | B15: 46054 | C15: Margaret Robinson | D15: 19912 | E15: PBS-44269-936 | F15: WA | G15: Broward | H15: MAPD | I15: Devoted Health | J15: Devoted Choice | K15: 46357 | L15: OEP | M15: N/A | N15: E-App | O15: Yes | P15: Issued | Q15: 46058 | S15: Sarah Mitchell | T15: Paper app mailed.
A16: 12 | B16: 46070 | C16: Harold Torres | D16: 19496 | E16: DPV-45173-145 | F16: OH | G16: Pinellas | H16: Medigap Plan G | I16: Anthem/BCBS | J16: Anthem BlueMedicare PPO | K16: 46174 | L16: New Enrollment | M16: N/A | N16: Online - Agent Portal | O16: Yes | P16: Issued | Q16: 46075 | S16: Sarah Mitchell | T16: Paper app mailed.
A17: 13 | B17: 46019 | C17: Hazel Morris | D17: 21381 | E17: PUA-55700-315 | F17: IL | G17: Hillsborough | H17: PDP | I17: Anthem/BCBS | J17: Anthem BlueMedicare PPO | K17: 46327 | L17: OEP | M17: N/A | N17: Phone - Telephonic | O17: Yes | P17: Issued | Q17: 46026 | S17: Sarah Mitchell | T17: Paper app mailed.
A18: 14 | B18: 46148 | C18: Rose Parker | D18: 20289 | E18: GZZ-79099-509 | F18: OH | G18: Bexar | H18: Medigap Plan N | I18: Anthem/BCBS | J18: Anthem BlueMedicare PPO | K18: 46023 | L18: AEP | M18: N/A | N18: Paper Application | O18: Yes | P18: Issued | Q18: 46151 | S18: Sarah Mitchell | T18: Telephonic enrollment recorded.
A19: 15 | B19: 46140 | C19: Leo King | D19: 16374 | E19: HXJ-98939-741 | F19: PA | G19: Riverside | H19: MA-Only | I19: Anthem/BCBS | J19: Anthem Medicare Preferred | K19: 46054 | L19: SEP | M19: Lost Coverage | N19: E-App | O19: Yes | P19: Pending | S19: Sarah Mitchell | T19: SOA on file.
A20: 16 | B20: 46147 | C20: Carol White | D20: 16205 | E20: KPQ-99947-919 | F20: CA | G20: Riverside | H20: PDP | I20: Wellcare | J20: Wellcare Classic | K20: 46266 | L20: AEP | M20: N/A | N20: Paper Application | O20: Yes | P20: Pending | S20: Sarah Mitchell | T20: Confirmation email sent.
A21: 17 | B21: 46043 | C21: Gerald Adams | D21: 17987 | E21: PJQ-52341-581 | F21: NC | G21: Palm Beach | H21: Medigap Plan G | I21: UnitedHealthcare | J21: AARP MedicareComplete | K21: 46357 | L21: AEP | M21: N/A | N21: E-App | O21: Yes | P21: Pending | S21: Sarah Mitchell
A22: 18 | B22: 46124 | C22: Frances Thompson | D22: 22325 | E22: CVZ-42669-813 | F22: FL | G22: Palm Beach | H22: DSNP | I22: Humana | J22: Humana Gold Plus | K22: 46296 | L22: New Enrollment | M22: N/A | N22: Phone - Telephonic | O22: Yes | P22: Pending | S22: Sarah Mitchell
A23: 19 | B23: 46141 | C23: Frances Ramirez | D23: 21462 | E23: HCJ-84995-868 | F23: IL | G23: Orange | H23: DSNP | I23: Cigna | J23: Cigna Preferred | K23: 46174 | L23: OEP | M23: N/A | N23: Phone - Telephonic | O23: Yes | P23: Under Review | S23: Sarah Mitchell | T23: Paper app mailed.
A24: 20 | B24: 46025 | C24: Ralph Walker | D24: 18304 | E24: VNS-99698-452 | F24: OH | G24: San Bernardino | H24: Medigap Plan G | I24: Aetna | J24: Aetna Medicare Advantage Plan | K24: 46357 | L24: Plan Change | M24: N/A | N24: Paper Application | O24: Yes | P24: Under Review | S24: Sarah Mitchell
A25: 21 | B25: 46094 | C25: Ethel Green | D25: 19835 | E25: KAZ-93073-380 | F25: AZ | G25: Hillsborough | H25: PDP | I25: Wellcare | J25: Wellcare Classic | K25: 46143 | L25: OEP | M25: N/A | N25: Online - Agent Portal | O25: Yes | P25: Declined | R25: Ineligible - out of area | S25: Sarah Mitchell
A26: 22 | B26: 46066 | C26: Betty Evans | D26: 15736 | E26: QWW-49561-489 | F26: NC | G26: Wayne | H26: MAPD | I26: Molina | J26: Molina Total Care | K26: 46296 | L26: Plan Change | M26: N/A | N26: E-App | O26: Yes | P26: Withdrawn | S26: Sarah Mitchell | T26: SOA on file.
A27: 23
A28: 24
A29: 25
A30: 26
A31: 27
A32: 28
A33: 29
A34: 30
A35: 31
A36: 32
A37: 33
A38: 34
... A204: 200

Sheet ✅ MEDICARE SALES
A1: ✅ MEDICARE SALES
A2: Record every Medicare enrollment. Source of truth for commissions and book of business.
A4: Total Sales | E4: Active | I4: MTD Sales | M4: Annual Prem | Q4: Avg Premium
A5: =COUNTA(B7:B456) | E5: =COUNTIF(V7:V456,"Active") | I5: =SUMPRODUCT((MONTH(B7:B456)=MONTH(TODAY()))*(YEAR(B7:B456)=YEAR(TODAY()))*(B7:B456<>"")) | M5: =IFERROR(SUM(Q7:Q456),0) | Q5: =IFERROR(AVERAGE(P7:P456),0)
